BEGIN:VCALENDAR
VERSION:2.0
PRODID:-//Autiste à la Ferme - ECPv6.15.20//NONSGML v1.0//EN
CALSCALE:GREGORIAN
METHOD:PUBLISH
X-WR-CALNAME:Autiste à la Ferme
X-ORIGINAL-URL:https://autistealaferme.ca
X-WR-CALDESC:Événements pour Autiste à la Ferme
REFRESH-INTERVAL;VALUE=DURATION:PT1H
X-Robots-Tag:noindex
X-PUBLISHED-TTL:PT1H
BEGIN:VTIMEZONE
TZID:America/Toronto
BEGIN:DAYLIGHT
TZOFFSETFROM:-0500
TZOFFSETTO:-0400
TZNAME:EDT
DTSTART:20250309T070000
END:DAYLIGHT
BEGIN:STANDARD
TZOFFSETFROM:-0400
TZOFFSETTO:-0500
TZNAME:EST
DTSTART:20251102T060000
END:STANDARD
BEGIN:DAYLIGHT
TZOFFSETFROM:-0500
TZOFFSETTO:-0400
TZNAME:EDT
DTSTART:20260308T070000
END:DAYLIGHT
BEGIN:STANDARD
TZOFFSETFROM:-0400
TZOFFSETTO:-0500
TZNAME:EST
DTSTART:20261101T060000
END:STANDARD
BEGIN:DAYLIGHT
TZOFFSETFROM:-0500
TZOFFSETTO:-0400
TZNAME:EDT
DTSTART:20270314T070000
END:DAYLIGHT
BEGIN:STANDARD
TZOFFSETFROM:-0400
TZOFFSETTO:-0500
TZNAME:EST
DTSTART:20271107T060000
END:STANDARD
END:VTIMEZONE
BEGIN:VEVENT
DTSTART;TZID=America/Toronto:20260424T130000
DTEND;TZID=America/Toronto:20260424T143000
DTSTAMP:20260421T200515
CREATED:20260420T182513Z
LAST-MODIFIED:20260420T185343Z
UID:2946-1777035600-1777041000@autistealaferme.ca
SUMMARY:Les petites poulettes vous partagent leur point de vue
DESCRIPTION:une poulette ouvre les yeux\, première chose qu’elles voient\, c’est le visage déterminé d’Ariette\, qui se bat encore avec les pins en arrière des safty eyes pour les attacher. \nune poulette ouvre les yeux\, première chose qu’elles voient\, c’est le visage déterminé d’Ariette\, qui se bat encore avec les pins en arrière des safty eyes pour les attacher\,une poulette ouvre les yeux\, première chose qu’elles voient\, c’est le visage déterminé d’Ariette\, qui se bat encore avec les pins en arrière des safty eyes pour les attacher\,une poulette ouvre les yeux\, première chose qu’elles voient\, c’est le visage déterminé d’Ariette\, qui se bat encore avec les pins en arrière des safty eyes pour les attacher\,une poulette ouvre les yeux\, première chose qu’elles voient\, c’est le visage déterminé d’Ariette\, qui se bat encore avec les pins en arrière des safty eyes pour les attacher\,une poulette ouvre les yeux\, première chose qu’elles voient\, c’est le visage déterminé d’Ariette\, qui se bat encore avec les pins en arrière des safty eyes pour les attacher\,une poulette ouvre les yeux\, première chose qu’elles voient\, c’est le visage déterminé d’Ariette\, qui se bat encore avec les pins en arrière des safty eyes pour les attacher\,une poulette ouvre les yeux\, première chose qu’elles voient\, c’est le visage déterminé d’Ariette\, qui se bat encore avec les pins en arrière des safty eyes pour les attacher\,une poulette ouvre les yeux\, première chose qu’elles voient\, c’est le visage déterminé d’Ariette\, qui se bat encore avec les pins en arrière des safty eyes pour les attacher\, \nune poulette ouvre les yeux\, première chose qu’elles voient\, c’est le visage déterminé d’Ariette\, qui se bat encore avec les pins en arrière des safty eyes pour les attacher\,une poulette ouvre les yeux\, première chose qu’elles voient\, c’est le visage déterminé d’Ariette\, qui se bat encore avec les pins en arrière des safty eyes pour les attacher\,une poulette ouvre les yeux\, première chose qu’elles voient\, c’est le visage déterminé d’Ariette\, qui se bat encore avec les pins en arrière des safty eyes pour les attacher\, \nune poulette ouvre les yeux\, première chose qu’elles voient\, c’est le visage déterminé d’Ariette\, qui se bat encore avec les pins en arrière des safty eyes pour les attacher\,une poulette ouvre les yeux\, première chose qu’elles voient\, c’est le visage déterminé d’Ariette\, qui se bat encore avec les pins en arrière des safty eyes pour les attacher\, \nune poulette ouvre les yeux\, première chose qu’elles voient\, c’est le visage déterminé d’Ariette\, qui se bat encore avec les pins en arrière des safty eyes pour les attacher\,v \nune poulette ouvre les yeux\, première chose qu’elles voient\, c’est le visage déterminé d’Ariette\, qui se bat encore avec les pins en arrière des safty eyes pour les attacher\,une poulette ouvre les yeux\, première chose qu’elles voient\, c’est le visage déterminé d’Ariette\, qui se bat encore avec les pins en arrière des safty eyes pour les attacher\, \nune poulette ouvre les yeux\, première chose qu’elles voient\, c’est le visage déterminé d’Ariette\, qui se bat encore avec les pins en arrière des safty eyes pour les attacher.
URL:https://autistealaferme.ca/evenement/les-petites-poulettes-vous-partagent-leur-point-de-vue/
LOCATION:Maison Bleue\, 999 rue des Arbres\, Queebc\, Queebc\, Canada
CATEGORIES:Conférences
ATTACH;FMTTYPE=image/jpeg:https://autistealaferme.ca/wp-content/uploads/2026/02/4D0A3420-copy-scaled.jpg
END:VEVENT
END:VCALENDAR